BEGIN:VCALENDAR
VERSION:2.0
PRODID:-//FPEI-RJ - ECPv6.15.20//NONSGML v1.0//EN
CALSCALE:GREGORIAN
METHOD:PUBLISH
X-ORIGINAL-URL:https://www.fpeirj.ong.br
X-WR-CALDESC:Eventos para FPEI-RJ
REFRESH-INTERVAL;VALUE=DURATION:PT1H
X-Robots-Tag:noindex
X-PUBLISHED-TTL:PT1H
BEGIN:VTIMEZONE
TZID:America/Sao_Paulo
BEGIN:STANDARD
TZOFFSETFROM:-0300
TZOFFSETTO:-0300
TZNAME:-03
DTSTART:20240101T000000
END:STANDARD
END:VTIMEZONE
BEGIN:VEVENT
DTSTART;TZID=America/Sao_Paulo:20250902T140000
DTEND;TZID=America/Sao_Paulo:20250902T160000
DTSTAMP:20260421T021959
CREATED:20250820T122158Z
LAST-MODIFIED:20251015T163318Z
UID:489-1756821600-1756828800@www.fpeirj.ong.br
SUMMARY:Reuniões de 2025 | Setembro
DESCRIPTION:As Diretrizes Operacionais de Qualidade e Equidade para a Educação Infantil definem uma dimensão de qualidade a “Identidade e Formação Profissional”. Entretanto: Quem são os profissionais que atuam na Creche e na Pré-escola? Quem deve exercer a docência? \nVenha debater e trocar experiências a partir dessas e outras questões na próxima reunião do FPEI-RJ que será realizada no dia 02 de setembro\, terça\, às 14h. \nO encontro será no Espaço Cultural Paulo Freire do Sinpro-Rio\, que fica na Rua Pedro Lessa\, 35\, 2º andar\, Centro\, Rio de Janeiro/RJ\, bem próximo à estação Cinelândia do Metrô. Não é necessária a realização de inscrição\, mas lembramos que os lugares são limitados. \nGrande abraço e nos vemos lá!
URL:https://www.fpeirj.ong.br/evento/reunioes-de-2025-setembro/
LOCATION:Centro Cultural Paulo Freire do Sinpro-Rio\, Rua Pedro Lessa\, 35\, Centro\, Rio de Janeiro\, Rio de Janeiro\, 20030030\, Brazil
CATEGORIES:Reuniões Mensais
ATTACH;FMTTYPE=image/png:https://www.fpeirj.ong.br/wp-content/uploads/2025/10/Convite_2025_09.png
ORGANIZER;CN="F%C3%B3rum Permanente de Educa%C3%A7%C3%A3o Infantil do Estado do Rio de Janeiro (FPEI-RJ)":MAILTO:forumeducacaoinfantilrj@gmail.com
END:VEVENT
END:VCALENDAR