BEGIN:VCALENDAR
VERSION:2.0
PRODID:-//FPEI-RJ - ECPv6.15.20//NONSGML v1.0//EN
CALSCALE:GREGORIAN
METHOD:PUBLISH
X-WR-CALNAME:FPEI-RJ
X-ORIGINAL-URL:https://www.fpeirj.ong.br
X-WR-CALDESC:Eventos para FPEI-RJ
REFRESH-INTERVAL;VALUE=DURATION:PT1H
X-Robots-Tag:noindex
X-PUBLISHED-TTL:PT1H
BEGIN:VTIMEZONE
TZID:America/Sao_Paulo
BEGIN:STANDARD
TZOFFSETFROM:-0300
TZOFFSETTO:-0300
TZNAME:-03
DTSTART:20240101T000000
END:STANDARD
END:VTIMEZONE
BEGIN:VEVENT
DTSTART;TZID=America/Sao_Paulo:20250603T140000
DTEND;TZID=America/Sao_Paulo:20250603T160000
DTSTAMP:20260421T021639
CREATED:20250520T122830Z
LAST-MODIFIED:20251015T163252Z
UID:501-1748959200-1748966400@www.fpeirj.ong.br
SUMMARY:Reuniões de 2025 | Junho
DESCRIPTION:A próxima reunião do FPEI-RJ será realizada no dia 03 de junho\, terça\, às 14h\, na qual discutiremos a “Educação Inclusiva na Educação Infantil” na busca das conquistas\, estratégias e desafios para o trabalho docente. Para tanto\, contaremos com a presença da Profa. Marina Castro\, FEBF/UERJ\, nossa convidada especial para esse encontro. \nVenham debater\, trocar experiências e fortalecer a educação infantil de nosso estado. \nO encontro será no Espaço Cultural Paulo Freire do Sinpro-Rio\, que fica na Rua Pedro Lessa\, 35\, 2º andar\, Centro\, Rio de Janeiro/RJ\, bem próximo à estação Cinelândia do Metrô. Não é necessária a realização de inscrição\, mas lembramos que os lugares são limitados. \nGrande abraço e nos vemos lá!
URL:https://www.fpeirj.ong.br/evento/reunioes-de-2025-junho/
LOCATION:Centro Cultural Paulo Freire do Sinpro-Rio\, Rua Pedro Lessa\, 35\, Centro\, Rio de Janeiro\, Rio de Janeiro\, 20030030\, Brazil
CATEGORIES:Reuniões Mensais
ATTACH;FMTTYPE=image/png:https://www.fpeirj.ong.br/wp-content/uploads/2025/10/Convite_2025_06.png
ORGANIZER;CN="F%C3%B3rum Permanente de Educa%C3%A7%C3%A3o Infantil do Estado do Rio de Janeiro (FPEI-RJ)":MAILTO:forumeducacaoinfantilrj@gmail.com
END:VEVENT
END:VCALENDAR