BEGIN:VCALENDAR
VERSION:2.0
PRODID:-//FPEI-RJ - ECPv6.15.20//NONSGML v1.0//EN
CALSCALE:GREGORIAN
METHOD:PUBLISH
X-WR-CALNAME:FPEI-RJ
X-ORIGINAL-URL:https://www.fpeirj.ong.br
X-WR-CALDESC:Eventos para FPEI-RJ
REFRESH-INTERVAL;VALUE=DURATION:PT1H
X-Robots-Tag:noindex
X-PUBLISHED-TTL:PT1H
BEGIN:VTIMEZONE
TZID:America/Sao_Paulo
BEGIN:STANDARD
TZOFFSETFROM:-0300
TZOFFSETTO:-0300
TZNAME:-03
DTSTART:20240101T000000
END:STANDARD
END:VTIMEZONE
BEGIN:VEVENT
DTSTART;TZID=America/Sao_Paulo:20260407T140000
DTEND;TZID=America/Sao_Paulo:20260407T160000
DTSTAMP:20260420T100105
CREATED:20260122T131542Z
LAST-MODIFIED:20260325T123510Z
UID:653-1775570400-1775577600@www.fpeirj.ong.br
SUMMARY:Reuniões de 2026 | Abril
DESCRIPTION:É com satisfação que convidamos para o próximo encontro de 2026 do Fórum Permanente de Educação Infantil do Estado do Rio de Janeiro (FPEI-RJ)\, no dia 07 de abril\, às 14h\, no Sinpro-Rio. \nEm continuidade ao debate iniciado no encontro anterior\, discutiremos o tema: “Cuidar das relações para cuidar das crianças: como as relações entre profissionais da Educação Infantil impactam o cotidiano institucional e as experiências das crianças?” \nContamos com sua presença! \nLocal: Sinpro-Rio (Rua Pedro Lessa\, 35\, 3º andar\, Centro\, Rio de Janeiro/RJ)\nMais informações: https://www.fpeirj.ong.br
URL:https://www.fpeirj.ong.br/evento/reunioes-de-2026-abril/
LOCATION:Centro Cultural Paulo Freire do Sinpro-Rio\, Rua Pedro Lessa\, 35\, Centro\, Rio de Janeiro\, Rio de Janeiro\, 20030030\, Brazil
CATEGORIES:Reuniões Mensais
ATTACH;FMTTYPE=image/png:https://www.fpeirj.ong.br/wp-content/uploads/2026/01/Convite_2026_04.png
ORGANIZER;CN="F%C3%B3rum Permanente de Educa%C3%A7%C3%A3o Infantil do Estado do Rio de Janeiro (FPEI-RJ)":MAILTO:forumeducacaoinfantilrj@gmail.com
END:VEVENT
BEGIN:VEVENT
DTSTART;TZID=America/Sao_Paulo:20260303T140000
DTEND;TZID=America/Sao_Paulo:20260303T160000
DTSTAMP:20260420T100105
CREATED:20260122T131220Z
LAST-MODIFIED:20260223T204712Z
UID:649-1772546400-1772553600@www.fpeirj.ong.br
SUMMARY:Reuniões de 2026 | Março
DESCRIPTION:É com satisfação que convidamos você para a *primeira reunião de 2026 do FPEI-RJ\, que será realizada no dia **03 de março (terça-feira)\, às 14h*. \nNeste encontro\, vamos discutir o tema: “Formação de profissionais na Educação Infantil: a experiência do Curso de Desenvolvimento Profissional em Educação Infantil”\, promovido pela Creche Fiocruz e pela Escola Politécnica de Saúde Joaquim Venâncio. \nVenha debater\, trocar experiências e fortalecer a Educação Infantil do nosso estado. \n*Local:* Sinpro-Rio (Rua Pedro Lessa\, 35\, 3º andar*\, Centro\, Rio de Janeiro/RJ (próximo à estação **Cinelândia* do Metrô).\n*Mais informações:* [www.fpeirj.ong.br](http://www.fpeirj.ong.br) \nGrande abraço e nos vemos lá!
URL:https://www.fpeirj.ong.br/evento/reunioes-de-2026-marco/
LOCATION:Centro Cultural Paulo Freire do Sinpro-Rio\, Rua Pedro Lessa\, 35\, Centro\, Rio de Janeiro\, Rio de Janeiro\, 20030030\, Brazil
CATEGORIES:Reuniões Mensais
ATTACH;FMTTYPE=image/png:https://www.fpeirj.ong.br/wp-content/uploads/2026/01/Convite_2026_01.png
ORGANIZER;CN="F%C3%B3rum Permanente de Educa%C3%A7%C3%A3o Infantil do Estado do Rio de Janeiro (FPEI-RJ)":MAILTO:forumeducacaoinfantilrj@gmail.com
END:VEVENT
BEGIN:VEVENT
DTSTART;TZID=America/Sao_Paulo:20251202T140000
DTEND;TZID=America/Sao_Paulo:20251202T160000
DTSTAMP:20260420T100105
CREATED:20251015T163016Z
LAST-MODIFIED:20251203T110614Z
UID:585-1764684000-1764691200@www.fpeirj.ong.br
SUMMARY:Reuniões de 2025 | Dezembro
DESCRIPTION:Convidamos você para o próximo encontro do FPEI-RJ que será realizado no dia 2 de dezembro\, terça-feira\, às 14h\, excepcionalmente no 3º andar. \nNesta reunião\, discutiremos as estratégias para implementação do Conaquei e os conhecimentos essenciais para que os municípios elaborem seus Planos de Expansão da Educação Infantil. \nSerá um momento fundamental para alinhar entendimentos\, esclarecer dúvidas e fortalecer o apoio aos municípios na construção de diagnósticos\, projeções e caminhos de expansão qualificada da oferta. \nSua participação é sempre muito importante para avançarmos juntos na agenda da qualidade e equidade na Educação Infantil de nosso estado.
URL:https://www.fpeirj.ong.br/evento/reunioes-de-2025-dezembro/
LOCATION:Centro Cultural Paulo Freire do Sinpro-Rio\, Rua Pedro Lessa\, 35\, Centro\, Rio de Janeiro\, Rio de Janeiro\, 20030030\, Brazil
CATEGORIES:Reuniões Mensais
ATTACH;FMTTYPE=image/png:https://www.fpeirj.ong.br/wp-content/uploads/2025/10/Convite_2025_12.png
ORGANIZER;CN="F%C3%B3rum Permanente de Educa%C3%A7%C3%A3o Infantil do Estado do Rio de Janeiro (FPEI-RJ)":MAILTO:forumeducacaoinfantilrj@gmail.com
END:VEVENT
BEGIN:VEVENT
DTSTART;TZID=America/Sao_Paulo:20251104T140000
DTEND;TZID=America/Sao_Paulo:20251104T160000
DTSTAMP:20260420T100105
CREATED:20251015T110946Z
LAST-MODIFIED:20251024T110938Z
UID:460-1762264800-1762272000@www.fpeirj.ong.br
SUMMARY:Reuniões de 2025 | Novembro
DESCRIPTION:O próximo encontro do FPEI-RJ será dedicado a compartilhar e refletir sobre as pesquisas e debates apresentados na ANPEd 2025. \nMuitas integrantes do Fórum estarão presentes em diferentes GTs e mesas\, levando e trazendo contribuições sobre a Educação Infantil\, suas práticas\, políticas e desafios atuais. \nSerá um momento de escuta\, diálogo e articulação\, buscando compreender o que as pesquisas vêm indicando para a formulação e implementação de políticas públicas voltadas à infância. Venha debater e trocar experiências no dia 04/nov/25\, terça\, às 14h. \nGrande abraço e nos vemos lá!
URL:https://www.fpeirj.ong.br/evento/reunioes-de-2025-novembro/
LOCATION:Centro Cultural Paulo Freire do Sinpro-Rio\, Rua Pedro Lessa\, 35\, Centro\, Rio de Janeiro\, Rio de Janeiro\, 20030030\, Brazil
CATEGORIES:Reuniões Mensais
ATTACH;FMTTYPE=image/png:https://www.fpeirj.ong.br/wp-content/uploads/2025/10/Convite_2025_11.png
ORGANIZER;CN="F%C3%B3rum Permanente de Educa%C3%A7%C3%A3o Infantil do Estado do Rio de Janeiro (FPEI-RJ)":MAILTO:forumeducacaoinfantilrj@gmail.com
END:VEVENT
BEGIN:VEVENT
DTSTART;VALUE=DATE:20251030
DTEND;VALUE=DATE:20251101
DTSTAMP:20260420T100105
CREATED:20251010T124048Z
LAST-MODIFIED:20251015T163406Z
UID:503-1761782400-1761955199@www.fpeirj.ong.br
SUMMARY:Encontro Nacional do Mieib 2025
DESCRIPTION:O Fórum Permanente de Educação Infantil do Estado do Rio de Janeiro (FPEI-RJ) compartilha o convite do Movimento Interfóruns de Educação Infantil do Brasil (MIEIB) para o seu XXXIX Encontro Nacional\, um espaço de encontro\, reflexão e mobilização coletiva. \nO evento reunirá representantes dos Fóruns de Educação Infantil de todos os estados\, secretarias de educação\, pesquisadores\, professores\, gestores e a sociedade civil organizada\, em torno de debates atuais e provocativos sobre os desafios e perspectivas da Educação Infantil diante das políticas públicas nacionais.
URL:https://www.fpeirj.ong.br/evento/encontro-nacional-do-mieib-2025/
LOCATION:Rio de Janeiro
CATEGORIES:Eventos do Mieib
ATTACH;FMTTYPE=image/jpeg:https://www.fpeirj.ong.br/wp-content/uploads/2025/10/mieib-em-alta.jpg
ORGANIZER;CN="Movimento Interf%C3%B3runs de Educa%C3%A7%C3%A3o Infantil do Brasil (Mieib)":MAILTO:mieibsecretaria@gmail.com
END:VEVENT
BEGIN:VEVENT
DTSTART;TZID=America/Sao_Paulo:20251007T140000
DTEND;TZID=America/Sao_Paulo:20251007T160000
DTSTAMP:20260420T100105
CREATED:20251015T115151Z
LAST-MODIFIED:20251015T161242Z
UID:474-1759845600-1759852800@www.fpeirj.ong.br
SUMMARY:Reuniões de 2025 | Outubro
DESCRIPTION:Temos duas importantes políticas de formação em curso em nosso estado. Por onde caminhamos e onde desejamos chegar? Como as novas diretrizes tratam dessa questão? \nVenha debater e trocar experiências a partir dessas e outras questões na próxima reunião do FPEI-RJ que será realizada no dia 07 de outubro\, terça\, às 14h. \nGrande abraço e nos vemos lá!
URL:https://www.fpeirj.ong.br/evento/reunioes-de-2025-outubro/
LOCATION:Centro Cultural Paulo Freire do Sinpro-Rio\, Rua Pedro Lessa\, 35\, Centro\, Rio de Janeiro\, Rio de Janeiro\, 20030030\, Brazil
CATEGORIES:Reuniões Mensais
ATTACH;FMTTYPE=image/png:https://www.fpeirj.ong.br/wp-content/uploads/2025/10/Convite_2025_10.png
ORGANIZER;CN="F%C3%B3rum Permanente de Educa%C3%A7%C3%A3o Infantil do Estado do Rio de Janeiro (FPEI-RJ)":MAILTO:forumeducacaoinfantilrj@gmail.com
END:VEVENT
BEGIN:VEVENT
DTSTART;TZID=America/Sao_Paulo:20250902T140000
DTEND;TZID=America/Sao_Paulo:20250902T160000
DTSTAMP:20260420T100105
CREATED:20250820T122158Z
LAST-MODIFIED:20251015T163318Z
UID:489-1756821600-1756828800@www.fpeirj.ong.br
SUMMARY:Reuniões de 2025 | Setembro
DESCRIPTION:As Diretrizes Operacionais de Qualidade e Equidade para a Educação Infantil definem uma dimensão de qualidade a “Identidade e Formação Profissional”. Entretanto: Quem são os profissionais que atuam na Creche e na Pré-escola? Quem deve exercer a docência? \nVenha debater e trocar experiências a partir dessas e outras questões na próxima reunião do FPEI-RJ que será realizada no dia 02 de setembro\, terça\, às 14h. \nO encontro será no Espaço Cultural Paulo Freire do Sinpro-Rio\, que fica na Rua Pedro Lessa\, 35\, 2º andar\, Centro\, Rio de Janeiro/RJ\, bem próximo à estação Cinelândia do Metrô. Não é necessária a realização de inscrição\, mas lembramos que os lugares são limitados. \nGrande abraço e nos vemos lá!
URL:https://www.fpeirj.ong.br/evento/reunioes-de-2025-setembro/
LOCATION:Centro Cultural Paulo Freire do Sinpro-Rio\, Rua Pedro Lessa\, 35\, Centro\, Rio de Janeiro\, Rio de Janeiro\, 20030030\, Brazil
CATEGORIES:Reuniões Mensais
ATTACH;FMTTYPE=image/png:https://www.fpeirj.ong.br/wp-content/uploads/2025/10/Convite_2025_09.png
ORGANIZER;CN="F%C3%B3rum Permanente de Educa%C3%A7%C3%A3o Infantil do Estado do Rio de Janeiro (FPEI-RJ)":MAILTO:forumeducacaoinfantilrj@gmail.com
END:VEVENT
BEGIN:VEVENT
DTSTART;TZID=America/Sao_Paulo:20250805T140000
DTEND;TZID=America/Sao_Paulo:20250805T160000
DTSTAMP:20260420T100105
CREATED:20250720T122502Z
LAST-MODIFIED:20251015T163311Z
UID:497-1754402400-1754409600@www.fpeirj.ong.br
SUMMARY:Reuniões de 2025 | Agosto
DESCRIPTION:O Fórum Permanente de Educação Infantil do Estado do Rio de Janeiro convida para a próxima reunião\, que acontece no dia 5 de agosto\, terça-feira\, às 14h\, no Espaço Cultural Paulo Freire do Sinpro-Rio (Rua Pedro Lessa\, 35\, 2º andar – Centro\, RJ\, pertinho da estação Cinelândia do Metrô). \nVamos conversar sobre as Novas Diretrizes Operacionais de Qualidade e Equidade para a Educação Infantil e refletir juntos sobre os caminhos\, desafios e possibilidades para sua implementação nos municípios. \nTeremos a participação das Secretarias Municipais de Educação de *Araruama\, Nova Iguaçu e Piraí*\, que estiveram presentes no Seminário do MEC e vão compartilhar suas experiências conosco. \nEsperamos vocês para esse importante momento de troca e construção coletiva! \nUm abraço e até lá!
URL:https://www.fpeirj.ong.br/evento/reunioes-de-2025-agosto/
LOCATION:Centro Cultural Paulo Freire do Sinpro-Rio\, Rua Pedro Lessa\, 35\, Centro\, Rio de Janeiro\, Rio de Janeiro\, 20030030\, Brazil
CATEGORIES:Reuniões Mensais
ATTACH;FMTTYPE=image/png:https://www.fpeirj.ong.br/wp-content/uploads/2025/10/Convite_2025_08.png
ORGANIZER;CN="F%C3%B3rum Permanente de Educa%C3%A7%C3%A3o Infantil do Estado do Rio de Janeiro (FPEI-RJ)":MAILTO:forumeducacaoinfantilrj@gmail.com
END:VEVENT
BEGIN:VEVENT
DTSTART;TZID=America/Sao_Paulo:20250701T140000
DTEND;TZID=America/Sao_Paulo:20250701T160000
DTSTAMP:20260420T100105
CREATED:20250620T145310Z
LAST-MODIFIED:20251015T163302Z
UID:549-1751378400-1751385600@www.fpeirj.ong.br
SUMMARY:Reuniões de 2025 | Julho
DESCRIPTION:Em virtude da participação de muitos de nós no seminário do MEC\, excepcionalmente\, não realizaremos o encontro previsto para o mês de julho. \nAqueles que estiverem presentes no seminário ficam convidados a compartilhar conosco\, posteriormente\, os informes e os debates que ocorrerem. \nLembramos que a reunião de agosto permanece confirmada para o dia 05/08 (terça-feira)\, às 14h.
URL:https://www.fpeirj.ong.br/evento/reunioes-de-2025-julho/
LOCATION:Centro Cultural Paulo Freire do Sinpro-Rio\, Rua Pedro Lessa\, 35\, Centro\, Rio de Janeiro\, Rio de Janeiro\, 20030030\, Brazil
CATEGORIES:Reuniões Mensais
ORGANIZER;CN="F%C3%B3rum Permanente de Educa%C3%A7%C3%A3o Infantil do Estado do Rio de Janeiro (FPEI-RJ)":MAILTO:forumeducacaoinfantilrj@gmail.com
END:VEVENT
BEGIN:VEVENT
DTSTART;TZID=America/Sao_Paulo:20250603T140000
DTEND;TZID=America/Sao_Paulo:20250603T160000
DTSTAMP:20260420T100105
CREATED:20250520T122830Z
LAST-MODIFIED:20251015T163252Z
UID:501-1748959200-1748966400@www.fpeirj.ong.br
SUMMARY:Reuniões de 2025 | Junho
DESCRIPTION:A próxima reunião do FPEI-RJ será realizada no dia 03 de junho\, terça\, às 14h\, na qual discutiremos a “Educação Inclusiva na Educação Infantil” na busca das conquistas\, estratégias e desafios para o trabalho docente. Para tanto\, contaremos com a presença da Profa. Marina Castro\, FEBF/UERJ\, nossa convidada especial para esse encontro. \nVenham debater\, trocar experiências e fortalecer a educação infantil de nosso estado. \nO encontro será no Espaço Cultural Paulo Freire do Sinpro-Rio\, que fica na Rua Pedro Lessa\, 35\, 2º andar\, Centro\, Rio de Janeiro/RJ\, bem próximo à estação Cinelândia do Metrô. Não é necessária a realização de inscrição\, mas lembramos que os lugares são limitados. \nGrande abraço e nos vemos lá!
URL:https://www.fpeirj.ong.br/evento/reunioes-de-2025-junho/
LOCATION:Centro Cultural Paulo Freire do Sinpro-Rio\, Rua Pedro Lessa\, 35\, Centro\, Rio de Janeiro\, Rio de Janeiro\, 20030030\, Brazil
CATEGORIES:Reuniões Mensais
ATTACH;FMTTYPE=image/png:https://www.fpeirj.ong.br/wp-content/uploads/2025/10/Convite_2025_06.png
ORGANIZER;CN="F%C3%B3rum Permanente de Educa%C3%A7%C3%A3o Infantil do Estado do Rio de Janeiro (FPEI-RJ)":MAILTO:forumeducacaoinfantilrj@gmail.com
END:VEVENT
BEGIN:VEVENT
DTSTART;TZID=America/Sao_Paulo:20250506T140000
DTEND;TZID=America/Sao_Paulo:20250506T160000
DTSTAMP:20260420T100105
CREATED:20250420T161042Z
LAST-MODIFIED:20251015T163245Z
UID:569-1746540000-1746547200@www.fpeirj.ong.br
SUMMARY:Reuniões de 2025 | Maio
DESCRIPTION:A próxima reunião do FPEI-RJ será realizada no dia 06 de maio\, terça\, às 14h\, na qual discutiremos sobre “Ser docente na educação infantil”. Para tanto\, contaremos com a presença da Prof. Edson Cordeiro dos Santos que compartilhará conosco alguns dos resultados da pesquisa que tratou do perfil e atuação das auxiliares na educação infantil. \nVenham debater\, trocar experiências e fortalecer a educação infantil de nosso estado. \nO encontro será no Espaço Cultural Paulo Freire do Sinpro-Rio\, que fica na Rua Pedro Lessa\, 35\, 2º andar\, Centro\, Rio de Janeiro/RJ\, bem próximo à estação Cinelândia do Metrô. Não é necessária a realização de inscrição\, mas lembramos que o espaço comporta o limite de 100 pessoas. \nGrande abraço e nos vemos lá!
URL:https://www.fpeirj.ong.br/evento/reunioes-de-2025-maio/
LOCATION:Centro Cultural Paulo Freire do Sinpro-Rio\, Rua Pedro Lessa\, 35\, Centro\, Rio de Janeiro\, Rio de Janeiro\, 20030030\, Brazil
CATEGORIES:Reuniões Mensais
ATTACH;FMTTYPE=image/png:https://www.fpeirj.ong.br/wp-content/uploads/2025/10/Convite_2025_05-scaled.png
ORGANIZER;CN="F%C3%B3rum Permanente de Educa%C3%A7%C3%A3o Infantil do Estado do Rio de Janeiro (FPEI-RJ)":MAILTO:forumeducacaoinfantilrj@gmail.com
END:VEVENT
BEGIN:VEVENT
DTSTART;TZID=America/Sao_Paulo:20250401T140000
DTEND;TZID=America/Sao_Paulo:20250401T160000
DTSTAMP:20260420T100105
CREATED:20250320T161817Z
LAST-MODIFIED:20251015T163236Z
UID:573-1743516000-1743523200@www.fpeirj.ong.br
SUMMARY:Reuniões de 2025 | Abril
DESCRIPTION:A próxima reunião do FPEI-RJ será realizada no dia 01 de abril\, terça\, às 14h\, na qual discutiremos as “Políticas públicas para a educação infantil”. Para tanto\, contaremos com a presença da Profa. Rita Coelho\, Coordenadora-Geral de Educação Infantil/ MEC\, nossa convidada especial para esse encontro. \nVenham debater\, trocar experiências e fortalecer a educação infantil de nosso estado. \nO encontro será no Espaço Cultural Paulo Freire do Sinpro-Rio\, que fica na Rua Pedro Lessa\, 35\, 2º andar\, Centro\, Rio de Janeiro/RJ\, bem próximo à estação Cinelândia do Metrô. Não é necessária a realização de inscrição\, mas lembramos que o espaço comporta o limite de 100 pessoas. \nGrande abraço e nos vemos lá!
URL:https://www.fpeirj.ong.br/evento/reunioes-de-2025-abril/
LOCATION:Centro Cultural Paulo Freire do Sinpro-Rio\, Rua Pedro Lessa\, 35\, Centro\, Rio de Janeiro\, Rio de Janeiro\, 20030030\, Brazil
CATEGORIES:Reuniões Mensais
ATTACH;FMTTYPE=image/png:https://www.fpeirj.ong.br/wp-content/uploads/2025/10/Convite_2025_04.png
ORGANIZER;CN="F%C3%B3rum Permanente de Educa%C3%A7%C3%A3o Infantil do Estado do Rio de Janeiro (FPEI-RJ)":MAILTO:forumeducacaoinfantilrj@gmail.com
END:VEVENT
BEGIN:VEVENT
DTSTART;TZID=America/Sao_Paulo:20250311T140000
DTEND;TZID=America/Sao_Paulo:20250311T160000
DTSTAMP:20260420T100105
CREATED:20250211T162218Z
LAST-MODIFIED:20251015T162332Z
UID:576-1741701600-1741708800@www.fpeirj.ong.br
SUMMARY:Reuniões de 2025 | Março
DESCRIPTION:É com satisfação que convidamos você para a primeira reunião do FPEI-RJ do ano que será realizada no dia 11 de março\, terça\, às 14h\, na qual discutiremos o tema: “Especialização em Docência na Educação Infantil”. \nNossa convidada neste encontro será a professora Anelise do Nascimento da UFRRJ. \nVenham debater\, trocar experiências e fortalecer a educação infantil de nosso estado. \nO encontro será no Espaço Cultural Paulo Freire do Sinpro-Rio que fica na Rua Pedro Lessa\, 35\, 2º andar\, Centro\, Rio de Janeiro/RJ\, bem próximo à estação Cinelândia do Metrô. \nGrande abraço e nos vemos lá!
URL:https://www.fpeirj.ong.br/evento/reunioes-de-2025-marco/
LOCATION:Centro Cultural Paulo Freire do Sinpro-Rio\, Rua Pedro Lessa\, 35\, Centro\, Rio de Janeiro\, Rio de Janeiro\, 20030030\, Brazil
CATEGORIES:Reuniões Mensais
ATTACH;FMTTYPE=image/png:https://www.fpeirj.ong.br/wp-content/uploads/2025/10/Convite_2025_03.png
ORGANIZER;CN="F%C3%B3rum Permanente de Educa%C3%A7%C3%A3o Infantil do Estado do Rio de Janeiro (FPEI-RJ)":MAILTO:forumeducacaoinfantilrj@gmail.com
END:VEVENT
BEGIN:VEVENT
DTSTART;TZID=America/Sao_Paulo:20250204T140000
DTEND;TZID=America/Sao_Paulo:20250204T160000
DTSTAMP:20260420T100105
CREATED:20241210T162549Z
LAST-MODIFIED:20251015T163223Z
UID:579-1738677600-1738684800@www.fpeirj.ong.br
SUMMARY:Reuniões de 2025 | Fevereiro
DESCRIPTION:
URL:https://www.fpeirj.ong.br/evento/reunioes-de-2025-fevereiro/
LOCATION:Centro Cultural Paulo Freire do Sinpro-Rio\, Rua Pedro Lessa\, 35\, Centro\, Rio de Janeiro\, Rio de Janeiro\, 20030030\, Brazil
CATEGORIES:Reuniões Mensais
ORGANIZER;CN="F%C3%B3rum Permanente de Educa%C3%A7%C3%A3o Infantil do Estado do Rio de Janeiro (FPEI-RJ)":MAILTO:forumeducacaoinfantilrj@gmail.com
END:VEVENT
BEGIN:VEVENT
DTSTART;TZID=America/Sao_Paulo:20250107T140000
DTEND;TZID=America/Sao_Paulo:20250107T160000
DTSTAMP:20260420T100105
CREATED:20241210T162825Z
LAST-MODIFIED:20251015T163212Z
UID:583-1736258400-1736265600@www.fpeirj.ong.br
SUMMARY:Reuniões de 2025 | Janeiro
DESCRIPTION:
URL:https://www.fpeirj.ong.br/evento/reunioes-de-2025-janeiro/
LOCATION:Centro Cultural Paulo Freire do Sinpro-Rio\, Rua Pedro Lessa\, 35\, Centro\, Rio de Janeiro\, Rio de Janeiro\, 20030030\, Brazil
CATEGORIES:Reuniões Mensais
ORGANIZER;CN="F%C3%B3rum Permanente de Educa%C3%A7%C3%A3o Infantil do Estado do Rio de Janeiro (FPEI-RJ)":MAILTO:forumeducacaoinfantilrj@gmail.com
END:VEVENT
END:VCALENDAR