BEGIN:VCALENDAR
VERSION:2.0
PRODID:-//FPEI-RJ - ECPv6.15.20//NONSGML v1.0//EN
CALSCALE:GREGORIAN
METHOD:PUBLISH
X-ORIGINAL-URL:https://www.fpeirj.ong.br
X-WR-CALDESC:Eventos para FPEI-RJ
REFRESH-INTERVAL;VALUE=DURATION:PT1H
X-Robots-Tag:noindex
X-PUBLISHED-TTL:PT1H
BEGIN:VTIMEZONE
TZID:America/Sao_Paulo
BEGIN:STANDARD
TZOFFSETFROM:-0300
TZOFFSETTO:-0300
TZNAME:-03
DTSTART:20250101T000000
END:STANDARD
END:VTIMEZONE
BEGIN:VEVENT
DTSTART;TZID=America/Sao_Paulo:20260407T140000
DTEND;TZID=America/Sao_Paulo:20260407T160000
DTSTAMP:20260420T165028
CREATED:20260122T131542Z
LAST-MODIFIED:20260325T123510Z
UID:653-1775570400-1775577600@www.fpeirj.ong.br
SUMMARY:Reuniões de 2026 | Abril
DESCRIPTION:É com satisfação que convidamos para o próximo encontro de 2026 do Fórum Permanente de Educação Infantil do Estado do Rio de Janeiro (FPEI-RJ)\, no dia 07 de abril\, às 14h\, no Sinpro-Rio. \nEm continuidade ao debate iniciado no encontro anterior\, discutiremos o tema: “Cuidar das relações para cuidar das crianças: como as relações entre profissionais da Educação Infantil impactam o cotidiano institucional e as experiências das crianças?” \nContamos com sua presença! \nLocal: Sinpro-Rio (Rua Pedro Lessa\, 35\, 3º andar\, Centro\, Rio de Janeiro/RJ)\nMais informações: https://www.fpeirj.ong.br
URL:https://www.fpeirj.ong.br/evento/reunioes-de-2026-abril/
LOCATION:Centro Cultural Paulo Freire do Sinpro-Rio\, Rua Pedro Lessa\, 35\, Centro\, Rio de Janeiro\, Rio de Janeiro\, 20030030\, Brazil
CATEGORIES:Reuniões Mensais
ATTACH;FMTTYPE=image/png:https://www.fpeirj.ong.br/wp-content/uploads/2026/01/Convite_2026_04.png
ORGANIZER;CN="F%C3%B3rum Permanente de Educa%C3%A7%C3%A3o Infantil do Estado do Rio de Janeiro (FPEI-RJ)":MAILTO:forumeducacaoinfantilrj@gmail.com
END:VEVENT
END:VCALENDAR