BEGIN:VCALENDAR
VERSION:2.0
PRODID:-//FPEI-RJ - ECPv6.15.20//NONSGML v1.0//EN
CALSCALE:GREGORIAN
METHOD:PUBLISH
X-ORIGINAL-URL:https://www.fpeirj.ong.br
X-WR-CALDESC:Eventos para FPEI-RJ
REFRESH-INTERVAL;VALUE=DURATION:PT1H
X-Robots-Tag:noindex
X-PUBLISHED-TTL:PT1H
BEGIN:VTIMEZONE
TZID:America/Sao_Paulo
BEGIN:STANDARD
TZOFFSETFROM:-0300
TZOFFSETTO:-0300
TZNAME:-03
DTSTART:20240101T000000
END:STANDARD
END:VTIMEZONE
BEGIN:VEVENT
DTSTART;TZID=America/Sao_Paulo:20250805T140000
DTEND;TZID=America/Sao_Paulo:20250805T160000
DTSTAMP:20260421T003935
CREATED:20250720T122502Z
LAST-MODIFIED:20251015T163311Z
UID:497-1754402400-1754409600@www.fpeirj.ong.br
SUMMARY:Reuniões de 2025 | Agosto
DESCRIPTION:O Fórum Permanente de Educação Infantil do Estado do Rio de Janeiro convida para a próxima reunião\, que acontece no dia 5 de agosto\, terça-feira\, às 14h\, no Espaço Cultural Paulo Freire do Sinpro-Rio (Rua Pedro Lessa\, 35\, 2º andar – Centro\, RJ\, pertinho da estação Cinelândia do Metrô). \nVamos conversar sobre as Novas Diretrizes Operacionais de Qualidade e Equidade para a Educação Infantil e refletir juntos sobre os caminhos\, desafios e possibilidades para sua implementação nos municípios. \nTeremos a participação das Secretarias Municipais de Educação de *Araruama\, Nova Iguaçu e Piraí*\, que estiveram presentes no Seminário do MEC e vão compartilhar suas experiências conosco. \nEsperamos vocês para esse importante momento de troca e construção coletiva! \nUm abraço e até lá!
URL:https://www.fpeirj.ong.br/evento/reunioes-de-2025-agosto/
LOCATION:Centro Cultural Paulo Freire do Sinpro-Rio\, Rua Pedro Lessa\, 35\, Centro\, Rio de Janeiro\, Rio de Janeiro\, 20030030\, Brazil
CATEGORIES:Reuniões Mensais
ATTACH;FMTTYPE=image/png:https://www.fpeirj.ong.br/wp-content/uploads/2025/10/Convite_2025_08.png
ORGANIZER;CN="F%C3%B3rum Permanente de Educa%C3%A7%C3%A3o Infantil do Estado do Rio de Janeiro (FPEI-RJ)":MAILTO:forumeducacaoinfantilrj@gmail.com
END:VEVENT
END:VCALENDAR